BEGIN:VCALENDAR
VERSION:2.0
PRODID:-//GAHRA - ECPv6.15.20//NONSGML v1.0//EN
CALSCALE:GREGORIAN
METHOD:PUBLISH
X-WR-CALNAME:GAHRA
X-ORIGINAL-URL:https://www.gahra.org
X-WR-CALDESC:Events for GAHRA
REFRESH-INTERVAL;VALUE=DURATION:PT1H
X-Robots-Tag:noindex
X-PUBLISHED-TTL:PT1H
BEGIN:VTIMEZONE
TZID:America/New_York
BEGIN:DAYLIGHT
TZOFFSETFROM:-0500
TZOFFSETTO:-0400
TZNAME:EDT
DTSTART:20210314T070000
END:DAYLIGHT
BEGIN:STANDARD
TZOFFSETFROM:-0400
TZOFFSETTO:-0500
TZNAME:EST
DTSTART:20211107T060000
END:STANDARD
BEGIN:DAYLIGHT
TZOFFSETFROM:-0500
TZOFFSETTO:-0400
TZNAME:EDT
DTSTART:20220313T070000
END:DAYLIGHT
BEGIN:STANDARD
TZOFFSETFROM:-0400
TZOFFSETTO:-0500
TZNAME:EST
DTSTART:20221106T060000
END:STANDARD
BEGIN:DAYLIGHT
TZOFFSETFROM:-0500
TZOFFSETTO:-0400
TZNAME:EDT
DTSTART:20230312T070000
END:DAYLIGHT
BEGIN:STANDARD
TZOFFSETFROM:-0400
TZOFFSETTO:-0500
TZNAME:EST
DTSTART:20231105T060000
END:STANDARD
END:VTIMEZONE
BEGIN:VEVENT
DTSTART;VALUE=DATE:20220328
DTEND;VALUE=DATE:20220331
DTSTAMP:20260422T182006
CREATED:20211206T191037Z
LAST-MODIFIED:20211206T192318Z
UID:2898-1648425600-1648684799@www.gahra.org
SUMMARY:2022 NAHRO Washington Conference
DESCRIPTION:
URL:https://www.gahra.org/event/2022-nahro-washington-conference/
LOCATION:Grand Hyatt Washington Hotel\, 1000 H Street NW\, Washington DC\, DC\, 20001\, United States
CATEGORIES:NAHRO
END:VEVENT
END:VCALENDAR