BEGIN:VCALENDAR
VERSION:2.0
PRODID:-//GAHRA - ECPv6.15.20//NONSGML v1.0//EN
CALSCALE:GREGORIAN
METHOD:PUBLISH
X-ORIGINAL-URL:https://www.gahra.org
X-WR-CALDESC:Events for GAHRA
REFRESH-INTERVAL;VALUE=DURATION:PT1H
X-Robots-Tag:noindex
X-PUBLISHED-TTL:PT1H
BEGIN:VTIMEZONE
TZID:America/New_York
BEGIN:DAYLIGHT
TZOFFSETFROM:-0500
TZOFFSETTO:-0400
TZNAME:EDT
DTSTART:20210314T070000
END:DAYLIGHT
BEGIN:STANDARD
TZOFFSETFROM:-0400
TZOFFSETTO:-0500
TZNAME:EST
DTSTART:20211107T060000
END:STANDARD
BEGIN:DAYLIGHT
TZOFFSETFROM:-0500
TZOFFSETTO:-0400
TZNAME:EDT
DTSTART:20220313T070000
END:DAYLIGHT
BEGIN:STANDARD
TZOFFSETFROM:-0400
TZOFFSETTO:-0500
TZNAME:EST
DTSTART:20221106T060000
END:STANDARD
BEGIN:DAYLIGHT
TZOFFSETFROM:-0500
TZOFFSETTO:-0400
TZNAME:EDT
DTSTART:20230312T070000
END:DAYLIGHT
BEGIN:STANDARD
TZOFFSETFROM:-0400
TZOFFSETTO:-0500
TZNAME:EST
DTSTART:20231105T060000
END:STANDARD
END:VTIMEZONE
BEGIN:VEVENT
DTSTART;VALUE=DATE:20221103
DTEND;VALUE=DATE:20221106
DTSTAMP:20260423T023933
CREATED:20211206T190638Z
LAST-MODIFIED:20220720T211954Z
UID:2892-1667433600-1667692799@www.gahra.org
SUMMARY:2022 Serc-Nahro Executive Committee Meeting
DESCRIPTION:
URL:https://www.gahra.org/event/2022-serc-nahro-executive-committee-meeting-3/
LOCATION:Marriott Savannah Riverfront Hotel\, 100 General McIntosh Blvd\, Savannah\, GA\, 31404\, United States
CATEGORIES:SERC
END:VEVENT
END:VCALENDAR